BEGIN:VCALENDAR
VERSION:2.0
PRODID:-//pretix//pretix.eu//
BEGIN:VTIMEZONE
TZID:Europe/Berlin
BEGIN:STANDARD
DTSTART:20001029T040000
RRULE:FREQ=YEARLY;BYDAY=-1SU;BYMONTH=10
TZNAME:CET
TZOFFSETFROM:+0200
TZOFFSETTO:+0100
END:STANDARD
BEGIN:DAYLIGHT
DTSTART:20000326T030000
RRULE:FREQ=YEARLY;BYDAY=-1SU;BYMONTH=3
TZNAME:CEST
TZOFFSETFROM:+0100
TZOFFSETTO:+0200
END:DAYLIGHT
END:VTIMEZONE
BEGIN:VEVENT
UID:pretix-mvh-solo-0@tickets.mv-h.de
DTSTART;TZID=Europe/Berlin:20250412T180000
DTEND;TZID=Europe/Berlin:20250412T235900
DESCRIPTION:Tickets: https://tickets.mv-h.de/solo/\nEinlass: 12.04.2025 18:
 00\nVeranstalter: Musikverein Hüttisheim e.V.
DTSTAMP:20260421T091917Z
LOCATION:Gemeindehalle Hüttisheim\, Kirchweg 29\, 89185 Hüttisheim
SUMMARY:Schwäbischer Solisten-Abend
END:VEVENT
END:VCALENDAR
